BEGIN:VCALENDAR
VERSION:2.0
PRODID:-//Get Off Grid - ECPv6.15.20//NONSGML v1.0//EN
CALSCALE:GREGORIAN
METHOD:PUBLISH
X-ORIGINAL-URL:https://www.getoffgrid.co.za
X-WR-CALDESC:Events for Get Off Grid
REFRESH-INTERVAL;VALUE=DURATION:PT1H
X-Robots-Tag:noindex
X-PUBLISHED-TTL:PT1H
BEGIN:VTIMEZONE
TZID:UTC
BEGIN:STANDARD
TZOFFSETFROM:+0000
TZOFFSETTO:+0000
TZNAME:UTC
DTSTART:20230101T000000
END:STANDARD
END:VTIMEZONE
BEGIN:VEVENT
DTSTART;TZID=UTC:20241121T090000
DTEND;TZID=UTC:20241121T150000
DTSTAMP:20260423T220952
CREATED:20241024T105309Z
LAST-MODIFIED:20250211T065149Z
UID:1975-1732179600-1732201200@www.getoffgrid.co.za
SUMMARY:BSLBATT & SUNSYNK Training
DESCRIPTION:Join us for the BSLBATT and SUNSYNK Training \nLow Voltage Training\n\nProduct introduction\nInstallation best practices\nSizing battery pairing and configuration\nCloud system overview\nPractical installation and troubleshooting\n\nHigh Voltage Training\n\nProduct introduction\nInstallation best practices\nSizing battery pairing and configuration\nCloud system overview\nPractical installation and troubleshooting\n\n\n\nBook A Seat
URL:https://www.getoffgrid.co.za/event/bslbatt-sunsynk-training/
LOCATION:Get Off Grid – Randburg\, Commercial Park\, 251 Aintree Ave\, Northriding\, Randburg\, Johannesburg\, Gauteng\, 2169\, South Africa
CATEGORIES:Get Off Grid Events
ATTACH;FMTTYPE=image/png:https://www.getoffgrid.co.za/wp-content/uploads/2024/10/BSLBATT-Sunsynk-Training1.png
ORGANIZER;CN="Get Off Grid":MAILTO:training@getoffgrid.co.za
END:VEVENT
END:VCALENDAR