BEGIN:VCALENDAR
VERSION:2.0
PRODID:-//Get Off Grid - ECPv6.15.20//NONSGML v1.0//EN
CALSCALE:GREGORIAN
METHOD:PUBLISH
X-ORIGINAL-URL:https://www.getoffgrid.co.za
X-WR-CALDESC:Events for Get Off Grid
REFRESH-INTERVAL;VALUE=DURATION:PT1H
X-Robots-Tag:noindex
X-PUBLISHED-TTL:PT1H
BEGIN:VTIMEZONE
TZID:UTC
BEGIN:STANDARD
TZOFFSETFROM:+0000
TZOFFSETTO:+0000
TZNAME:UTC
DTSTART:20230101T000000
END:STANDARD
END:VTIMEZONE
BEGIN:VEVENT
DTSTART;TZID=UTC:20241119T090000
DTEND;TZID=UTC:20241119T150000
DTSTAMP:20260423T215849
CREATED:20241017T072207Z
LAST-MODIFIED:20241017T072207Z
UID:1936-1732006800-1732028400@www.getoffgrid.co.za
SUMMARY:Victron Training - Level 1 & 2
DESCRIPTION:Victron Training Levels 1 & 2\n\nWhats Covered:\n\nPhysical installation\nInstallation environment\nUnit pairing\nBasic setup/programming\nUpdates on Victron devices\nHow to use VRM (Victron Remote Management)\n\n  \nBook A Seat
URL:https://www.getoffgrid.co.za/event/victron-training-level-1-2/
CATEGORIES:Get Off Grid Events
ATTACH;FMTTYPE=image/png:https://www.getoffgrid.co.za/wp-content/uploads/2024/10/Victron-Training-Level-1-21.png
END:VEVENT
END:VCALENDAR