BEGIN:VCALENDAR
VERSION:2.0
PRODID:-//Get Off Grid - ECPv6.15.20//NONSGML v1.0//EN
CALSCALE:GREGORIAN
METHOD:PUBLISH
X-ORIGINAL-URL:https://www.getoffgrid.co.za
X-WR-CALDESC:Events for Get Off Grid
REFRESH-INTERVAL;VALUE=DURATION:PT1H
X-Robots-Tag:noindex
X-PUBLISHED-TTL:PT1H
BEGIN:VTIMEZONE
TZID:Asia/Krasnoyarsk
BEGIN:STANDARD
TZOFFSETFROM:+0700
TZOFFSETTO:+0700
TZNAME:+07
DTSTART:20230101T000000
END:STANDARD
END:VTIMEZONE
BEGIN:VTIMEZONE
TZID:UTC
BEGIN:STANDARD
TZOFFSETFROM:+0000
TZOFFSETTO:+0000
TZNAME:UTC
DTSTART:20230101T000000
END:STANDARD
END:VTIMEZONE
BEGIN:VEVENT
DTSTART;TZID=Asia/Krasnoyarsk:20241024T100000
DTEND;TZID=Asia/Krasnoyarsk:20241024T123000
DTSTAMP:20260423T232041
CREATED:20240906T122037Z
LAST-MODIFIED:20241014T105610Z
UID:316-1729764000-1729773000@www.getoffgrid.co.za
SUMMARY:ATESS Training
DESCRIPTION:Introduction to ATESS \n\nFundamental design and functionality\nComparison of HPS vs. PCS\n\nBattery Selection \n\nFactors influencing battery choice\nHPS MPPT vs. PCS/PBD charge conditions\nString design\n\nAdvanced Monitoring \n\nData analysis for proactive maintenance\nAddressing potential issues and changing site conditions\n\nCommissioning and Installation \n\nSite assessment and preparation\nEquipment installation\nGrid integration\n\nFAQ Session \n\nSystem compatibility\nLong-term sustainability and economic viability\n\nQ&A \n\nOpen discussion for clarification and deeper understanding\n\nBook a Seat
URL:https://www.getoffgrid.co.za/event/atess-training/
LOCATION:Get Off Grid – Randburg\, Commercial Park\, 251 Aintree Ave\, Northriding\, Randburg\, Johannesburg\, Gauteng\, 2169\, South Africa
CATEGORIES:Get Off Grid Events
ATTACH;FMTTYPE=image/png:https://www.getoffgrid.co.za/wp-content/uploads/2024/09/Website-Events-Atess-training.png
END:VEVENT
BEGIN:VEVENT
DTSTART;TZID=UTC:20241024T130000
DTEND;TZID=UTC:20241024T150000
DTSTAMP:20260423T232041
CREATED:20241016T113104Z
LAST-MODIFIED:20241016T124544Z
UID:1900-1729774800-1729782000@www.getoffgrid.co.za
SUMMARY:BSLBATT HV Training
DESCRIPTION:Join us for the BSLBATT HV Training \n\nProduct introduction\n– HV Pack\n– HV Rack\n\nInstallation best practices\nSizing battery pairing and configuration\nCloud system overview\nPractical installation and troubleshooting\n\n\nBook A Seat
URL:https://www.getoffgrid.co.za/event/bslbatt-hv-training/
CATEGORIES:Get Off Grid Events
ATTACH;FMTTYPE=image/png:https://www.getoffgrid.co.za/wp-content/uploads/2024/10/BSLBATT-HV-Training1.png
ORGANIZER;CN="Get Off Grid":MAILTO:training@getoffgrid.co.za
END:VEVENT
END:VCALENDAR